BEGIN:VCALENDAR
VERSION:2.0
PRODID:-//wp-events-plugin.com//7.2.3.1//EN
TZID:America/New_York
X-WR-TIMEZONE:America/New_York
BEGIN:VEVENT
UID:28@appreciativeinquiry.champlain.edu
DTSTART;TZID=America/New_York:20231214T120000
DTEND;TZID=America/New_York:20231214T130000
DTSTAMP:20231211T174624Z
URL:https://appreciativeinquiry.champlain.edu/events/practitioner-panel-ho
 w-ccai-certification-grads-put-ai-to-work-webinar/
SUMMARY:Practitioner Panel: How CCAI Certification Grads Put AI to Work Web
 inar
DESCRIPTION:\nJoin graduates of the CCAI Certification program as they shar
 e their real-life examples of how they've infused Appreciative Inquiry pra
 ctices into their work. Learn more about these practitioners below!\n\n\n\
 nYou can register for the upcoming cohort of our Online AI Certification h
 ere: https://ai.catalog.instructure.com/courses/online-certification-in-ap
 preciative-inquiry\n\n\n\nGuest Practitioners:\n\n\n\n\n\n\n\n\n\n\n\n\n\n
 \n\n\n
ATTACH;FMTTYPE=image/jpeg:https://appreciativeinquiry.champlain.edu/wp-con
 tent/uploads/2023/12/Copy-of-Modern-Online-Course-Promotion-Facebook-Post-
 8-e1702316761688.png
END:VEVENT
BEGIN:VTIMEZONE
TZID:America/New_York
X-LIC-LOCATION:America/New_York
BEGIN:STANDARD
DTSTART:20231105T010000
TZOFFSETFROM:-0400
TZOFFSETTO:-0500
TZNAME:EST
END:STANDARD
END:VTIMEZONE
END:VCALENDAR