BEGIN:VCALENDAR
VERSION:2.0
PRODID:-//wp-events-plugin.com//7.2.3.1//EN
TZID:America/New_York
X-WR-TIMEZONE:America/New_York
BEGIN:VEVENT
UID:8@appreciativeinquiry.champlain.edu
DTSTART;TZID=America/New_York:20221110T090000
DTEND;TZID=America/New_York:20221110T130000
DTSTAMP:20221103T141145Z
URL:https://appreciativeinquiry.champlain.edu/events/leading-with-question
 screating-the-change-you-want-with-the-questions-you-ask/
SUMMARY:Leading with Questions: Creating the Change You Want with the Quest
 ions You Ask
DESCRIPTION:\nGreat leaders know the power of a well crafted question. Rese
 arch shows that asking more questions builds emotional intelligence which 
 is integral to leadership and relationship building. It also improves grou
 p morale\, makes people feel respected and heard\, and helps teams create 
 better solutions\, together.\n\n\n\nJoin Lindsey Godwin\, Stiller-Endowed 
 Chair and Academic Director of The Cooperrider Center for Appreciative Inq
 uiry at Champlain College\, for a 4-hour Workshop on the art of generative
  questions.&nbsp\;\n
ATTACH;FMTTYPE=image/jpeg:https://appreciativeinquiry.champlain.edu/wp-con
 tent/uploads/2022/09/what-if.jpeg
END:VEVENT
BEGIN:VTIMEZONE
TZID:America/New_York
X-LIC-LOCATION:America/New_York
BEGIN:STANDARD
DTSTART:20221106T010000
TZOFFSETFROM:-0400
TZOFFSETTO:-0500
TZNAME:EST
END:STANDARD
END:VTIMEZONE
END:VCALENDAR