BEGIN:VCALENDAR
VERSION:2.0
PRODID:-//wp-events-plugin.com//7.2.3.1//EN
TZID:America/New_York
X-WR-TIMEZONE:America/New_York
BEGIN:VEVENT
UID:30@appreciativeinquiry.champlain.edu
DTSTART;TZID=America/New_York:20240118T120000
DTEND;TZID=America/New_York:20240118T130000
DTSTAMP:20231211T181206Z
URL:https://appreciativeinquiry.champlain.edu/events/1959/
SUMMARY:AIP November 2023 Open Issue Webinar
DESCRIPTION:\nJoin us for this free webinar to hear from and converse with 
 contributing authors and guest editors of the September 2022 Open Issue of
  the AI Practitioner Journal.The contributions in this year’s open issue
  of AI Practitioner range from a new way of looking at Appreciative Inquir
 y\, the Appreciative paradigm\, to a new project/model for co-creating mut
 ual value\, with Appreciative Inquiry and strengths-based disciplines at i
 ts core\, to a proposition that essential oils can boost the energy and po
 sitive responses during an appreciative inquiry. And there is a report fro
 m the 2023 AI Jam\, organized by the Cooperrider Center.\n\n\n\nISSUE LINK
 : https://aipractitioner.com/product/the-open-issue-2023-2/\n\n\n\nContrib
 uting Authors of this issue:\n\n\n\n\nFederico Varona The Appreciative Par
 adigm: From Methodology to Paradigm\n\n\n\nCene’ L Livingston Using Appr
 eciative Inquiry to Improve Cultural Humility in Primary Healthcare\n\n\n\
 nAda Jo Mann A Crown of Appreciative Sonnets\n\n\n\nRenata A. Walton and K
 elley A. Conrad Futureproofing the Leadership Pipeline: An Appreciative In
 quiry Exploring Reverse Mentoring to Prepare Millennials for Leadership in
  Pharmaceuticals\n\n\n\nMille Themsen Duvander Appreciative Inquiry and Es
 sential Oils\n\n\n\nBernard J. Mohr\, Susan Donnan\, Chris Reaves\, Fritz 
 Walter How Business Can Prosper by Building a Better World: A Strengths-Ba
 sed Approach to Co-Creating Mutual Value\n\n\n\nLindsey Godwin\, Jessica B
 lackman\, Heloisa Gappmayer Biscaia\, Maria Fernanda Teixeira da Costa\, S
 usan Alberttoni\, Vania Bueno Reflections on the 2023 AI Jam\n\n\n\nKeith 
 Storace Voices from the Field\n\n\n\nAlex Arnold Climate Action Starts Wit
 hin\n\n\n\nNick Heap Naturalising Appreciative Inquiry\n\n
ATTACH;FMTTYPE=image/jpeg:https://appreciativeinquiry.champlain.edu/wp-con
 tent/uploads/2023/12/6.png
END:VEVENT
BEGIN:VTIMEZONE
TZID:America/New_York
X-LIC-LOCATION:America/New_York
BEGIN:STANDARD
DTSTART:20231105T010000
TZOFFSETFROM:-0400
TZOFFSETTO:-0500
TZNAME:EST
END:STANDARD
END:VTIMEZONE
END:VCALENDAR